BEGIN:VCALENDAR
VERSION:2.0
PRODID:-//eventon.com NONSGML v1.0//EN
CALSCALE:GREGORIAN
METHOD:PUBLISH
BEGIN:VEVENT
UID:69e69c9bd33e1
DTSTAMP:20260420T213731Z
DTSTART:20261010T090000Z
DTEND:20261010T180000Z
LOCATION:Familie Bredenkamp & Wagner Waldplatz 12\,  19217 Groß Hundorf
SUMMARY:Herbsttreffen 2026
DESCRIPTION:Weitere Informationen folgen rechtzeitig!\nhttps://www.welshbla
 ck.de/termine/herbsttreffen-2026
URL:https://www.welshblack.de/termine/herbsttreffen-2026
END:VEVENT
END:VCALENDAR